



BEGIN:VCALENDAR
VERSION:2.0
PRODID:-//IlluminAge WordPress Calendar Plugin//
CALSCALE:GREGORIAN
METHOD:PUBLISH
X-WR-CALNAME:Aging &amp; Disability Services for Seattle &amp; King County
X-WR-CALDESC:
X-FROM-URL:https://www.agingkingcounty.org
BEGIN:VEVENT
URL:https://www.agingkingcounty.org/lunch-n-learn-coordinated-response-to-abuse-neglect-exploitation/
UID:https://www.agingkingcounty.org/lunch-n-learn-coordinated-response-to-abuse-neglect-exploitation/
DTSTAMP:20260423T081507Z
DTSTART: 20180612T190000Z
DTEND: 20180612T203000Z
SUMMARY:Lunch 'n Learn: Coordinated Response to Abuse, Neglect &amp; Exploitation - CANCELLED
CONTACT:Irene Stewart
LOCATION:Seattle City Council Chamber, Seattle City Hall (2nd floor) - 600 4th Avenue, Seattle, WA 98104
END:VEVENT
END:VCALENDAR