



BEGIN:VCALENDAR
VERSION:2.0
PRODID:-//IlluminAge WordPress Calendar Plugin//
CALSCALE:GREGORIAN
METHOD:PUBLISH
X-WR-CALNAME:Aging &amp; Disability Services for Seattle &amp; King County
X-WR-CALDESC:
X-FROM-URL:https://www.agingkingcounty.org
BEGIN:VEVENT
URL:https://www.agingkingcounty.org/ducks-row-seminar/
UID:https://www.agingkingcounty.org/ducks-row-seminar/
DTSTAMP:20260422T103436Z
DTSTART: 20170425T210000Z
DTEND: 20170425T220000Z
SUMMARY:Ducks in a Row Seminar
CONTACT:Era Living
LOCATION:Aljoya Thornton Place - 450 NE 100th St, Seattle, WA 98125
END:VEVENT
END:VCALENDAR