



BEGIN:VCALENDAR
VERSION:2.0
PRODID:-//IlluminAge WordPress Calendar Plugin//
CALSCALE:GREGORIAN
METHOD:PUBLISH
X-WR-CALNAME:Aging &amp; Disability Services for Seattle &amp; King County
X-WR-CALDESC:
X-FROM-URL:https://www.agingkingcounty.org
BEGIN:VEVENT
URL:https://www.agingkingcounty.org/age-and-dementia-friendly-community-forum/
UID:https://www.agingkingcounty.org/age-and-dementia-friendly-community-forum/
DTSTAMP:20260422T134817Z
DTSTART: 20260423T200000Z
DTEND: 20260423T220000Z
SUMMARY:Age and Dementia Friendly Community Forum
CONTACT:
LOCATION: - , 
END:VEVENT
END:VCALENDAR