



BEGIN:VCALENDAR
VERSION:2.0
PRODID:-//IlluminAge WordPress Calendar Plugin//
CALSCALE:GREGORIAN
METHOD:PUBLISH
X-WR-CALNAME:Aging &amp; Disability Services for Seattle &amp; King County
X-WR-CALDESC:
X-FROM-URL:https://www.agingkingcounty.org
BEGIN:VEVENT
URL:https://www.agingkingcounty.org/silver-screeners-movies-1st-thursdays-2-2/
UID:https://www.agingkingcounty.org/silver-screeners-movies-1st-thursdays-2-2/
DTSTAMP:20260420T075859Z
DTSTART: 20240404T170000Z
DTEND: 20240404T190000Z
SUMMARY:Silver Screeners Movies (1st Thursdays)
CONTACT:
LOCATION:Mukilteo Library  - 4675 Harbour Pointe Boulevard, Mukilteo, WA 98275-4725
END:VEVENT
END:VCALENDAR