



BEGIN:VCALENDAR
VERSION:2.0
PRODID:-//IlluminAge WordPress Calendar Plugin//
CALSCALE:GREGORIAN
METHOD:PUBLISH
X-WR-CALNAME:Aging &amp; Disability Services for Seattle &amp; King County
X-WR-CALDESC:
X-FROM-URL:https://www.agingkingcounty.org
BEGIN:VEVENT
URL:https://www.agingkingcounty.org/1-21-20-virtual-civic-coffee-hour-guest-tba/
UID:https://www.agingkingcounty.org/1-21-20-virtual-civic-coffee-hour-guest-tba/
DTSTAMP:20260423T080954Z
DTSTART: 20210218T183000Z
DTEND: 20210218T193000Z
SUMMARY:2/18/21 Virtual Civic Coffee Hour: Mariko Lockhart, Seattle Office of Civil Rights
CONTACT:
LOCATION: - , 
END:VEVENT
END:VCALENDAR